BEGIN:VCALENDAR
VERSION:2.0
PRODID:-//Plone.org//NONSGML plone.app.event//EN
X-WR-TIMEZONE:Europe/Berlin
BEGIN:VEVENT
SUMMARY:EMF – Anmeldung zum Zertifikatsprogramm EMF
DTSTART;VALUE=DATE:20240131
DTEND;VALUE=DATE:20240201
DTSTAMP:20260420T103932Z
UID:298f4bde87a944c3961182707cec49e5@www.uni-marburg.de
ATTENDEE;CN=Verschiedene;ROLE=REQ-PARTICIPANT:Verschiedene
CREATED:20181203T210138Z
DESCRIPTION:https://www.uni-marburg.de/de/mara/aktuelles-mara/events/2024/
 postdocprogramm/emf-anmeldung\nInformation zur Anmeldung zum Zertifikatspr
 ogramm EMF
LAST-MODIFIED:20240717T093816Z
LOCATION:Anmeldung online über die externe Datenbank Campus Events
URL:https://www.uni-marburg.de/de/mara/aktuelles-mara/events/2024/postdocp
 rogramm/emf-anmeldung
END:VEVENT
END:VCALENDAR
