BEGIN:VCALENDAR
VERSION:2.0
PRODID:-//Plone.org//NONSGML plone.app.event//EN
X-WR-TIMEZONE:Europe/Berlin
BEGIN:VEVENT
SUMMARY:EMF – Führung von Mitarbeitenden – Präsenzveranstaltung
DTSTART;TZID=Europe/Berlin:20241009T090000
DTEND;TZID=Europe/Berlin:20241009T170000
DTSTAMP:20260420T165141Z
UID:fe17323816984c74988c034fcbef82ae@www.uni-marburg.de
RRULE:FREQ=DAILY;COUNT=2
EXDATE;TZID=Europe/Berlin:20220630T090000
ATTENDEE;CN="Barbara Schade";ROLE=REQ-PARTICIPANT:Barbara Schade
ATTENDEE;CN=www.barbara-schade.de;ROLE=REQ-PARTICIPANT:www.barbara-schade.
 de
CREATED:20181203T210138Z
DESCRIPTION:https://www.uni-marburg.de/de/mara/aktuelles-mara/events/2024/
 postdocprogramm/emf-fuehrung\nErlernen Sie in dieser zweitägigen Veransta
 ltung die Kompetenz\, Ihr Team achtsam zu führen\, Belastungssignale bei 
 sich selbst sowie bei anderen Menschen zu erkennen und die Auswirkungen vo
 n Führungsverhalten auf das Wohlbefinden sowie auf die Leistung des Teams
  zu verstehen und nutzen zu können.
LAST-MODIFIED:20240228T084600Z
LOCATION:MARA F|05\, Deutschhausstraße 11+13\, Seminarraum 01.0010
URL:https://www.uni-marburg.de/de/mara/aktuelles-mara/events/2024/postdocp
 rogramm/emf-fuehrung
END:VEVENT
BEGIN:VTIMEZONE
TZID:Europe/Berlin
X-LIC-LOCATION:Europe/Berlin
BEGIN:DAYLIGHT
DTSTART:20240331T030000
TZNAME:CEST
TZOFFSETFROM:+0100
TZOFFSETTO:+0200
END:DAYLIGHT
END:VTIMEZONE
END:VCALENDAR
