BEGIN:VCALENDAR
VERSION:2.0
PRODID:-//Plone.org//NONSGML plone.app.event//EN
X-WR-TIMEZONE:Europe/Berlin
BEGIN:VEVENT
SUMMARY:EMF –  Informationsveranstaltung zum Programm „Entwicklung und
  Management von Forschungsprojekten“
DTSTART;TZID=Europe/Berlin:20241120T120000
DTEND;TZID=Europe/Berlin:20241120T130000
DTSTAMP:20260420T165148Z
UID:8e4f624a74de4377931a02de540c2957@www.uni-marburg.de
ATTENDEE;CN="Dr. Christine Berger";ROLE=REQ-PARTICIPANT:Dr. Christine Berg
 er
ATTENDEE;CN=;ROLE=REQ-PARTICIPANT:
CREATED:20181203T210138Z
DESCRIPTION:https://www.uni-marburg.de/de/mara/aktuelles-mara/events/2024/
 postdocprogramm/emf-informationsveranstaltung\nIn dieser Informationsveran
 staltung bekommen Sie einen Überblick über die Ziele sowie den Ablauf de
 s Zertifikatprogramms „Entwicklung und Management von Forschungsprojekte
 n" (EMF) und lernen dessen Module Projektentwicklung und Projektbeantragun
 g\, Projektmanagement\, Präsentation von Forschungsprojekten und Transfer
  kennen.
LAST-MODIFIED:20240701T103752Z
LOCATION:Online in BigBlueButton
URL:https://www.uni-marburg.de/de/mara/aktuelles-mara/events/2024/postdocp
 rogramm/emf-informationsveranstaltung
END:VEVENT
BEGIN:VTIMEZONE
TZID:Europe/Berlin
X-LIC-LOCATION:Europe/Berlin
BEGIN:STANDARD
DTSTART:20241027T020000
TZNAME:CET
TZOFFSETFROM:+0200
TZOFFSETTO:+0100
END:STANDARD
END:VTIMEZONE
END:VCALENDAR
