BEGIN:VCALENDAR
VERSION:2.0
PRODID:-//Plone.org//NONSGML plone.app.event//EN
X-WR-TIMEZONE:Europe/Berlin
BEGIN:VEVENT
SUMMARY:Wissenschaft kommunizieren – Der Weg zum persönlichen Kommunika
 tionsprofil
DTSTART;TZID=Europe/Berlin:20241122T090000
DTEND;TZID=Europe/Berlin:20241122T170000
DTSTAMP:20260420T165307Z
UID:3ccd92e2352d4105b2ac2364638a85f9@www.uni-marburg.de
ATTENDEE;CN="Dr. Elisabeth Hoffmann";ROLE=REQ-PARTICIPANT:Dr. Elisabeth Ho
 ffmann
CREATED:20240227T095804Z
DESCRIPTION:https://www.uni-marburg.de/de/mara/aktuelles-mara/events/2024/
 postdocprogramm/wisskomm-kommunikationsprofil\nIn diesem Workshop erhalten
  Sie einen Einblick in die Grundlagen der Wissenschaftskommunikation und e
 rfahren\, wie Sie Methoden und Instrumente der Wissenschaftskommunikation 
 für Ihre Forschung und Ihre persönliche Weiterentwicklung (besser) nutze
 n können.
LAST-MODIFIED:20240229T131633Z
LOCATION:MARA F|05\, Deutschhausstraße 11+13\, Seminarraum 01.0010
URL:https://www.uni-marburg.de/de/mara/aktuelles-mara/events/2024/postdocp
 rogramm/wisskomm-kommunikationsprofil
END:VEVENT
BEGIN:VTIMEZONE
TZID:Europe/Berlin
X-LIC-LOCATION:Europe/Berlin
BEGIN:STANDARD
DTSTART:20241027T020000
TZNAME:CET
TZOFFSETFROM:+0200
TZOFFSETTO:+0100
END:STANDARD
END:VTIMEZONE
END:VCALENDAR
