BEGIN:VCALENDAR
VERSION:2.0
PRODID:-//Plone.org//NONSGML plone.app.event//EN
X-WR-TIMEZONE:Europe/Berlin
BEGIN:VEVENT
SUMMARY:EMF – Informationsveranstaltung zum Wissenschaftszeitvertragsges
 etz – Online-Veranstaltung
DTSTART;TZID=Europe/Berlin:20241115T093000
DTEND;TZID=Europe/Berlin:20241115T113000
DTSTAMP:20260420T221439Z
UID:13e835dff4054610ac37f100af5753cf@www.uni-marburg.de
ATTENDEE;CN="Dr. Ulrike Preißler";ROLE=REQ-PARTICIPANT:Dr. Ulrike Preißl
 er
ATTENDEE;CN=www.hochschulverband.de;ROLE=REQ-PARTICIPANT:www.hochschulverb
 and.de
CREATED:20181203T210138Z
DESCRIPTION:https://www.uni-marburg.de/de/mara/aktuelles-mara/events/2024/
 postdocprogramm/wisszeitvg\nIn diesem Workshop erhalten Sie einen Überbli
 ck über die rechtlichen Grundlagen für befristete Arbeitsverträge für 
 wissenschaftliche Mitarbeitende an Hochschulen und Forschungseinrichtungen
 .
LAST-MODIFIED:20240228T084949Z
LOCATION:Online
URL:https://www.uni-marburg.de/de/mara/aktuelles-mara/events/2024/postdocp
 rogramm/wisszeitvg
END:VEVENT
BEGIN:VTIMEZONE
TZID:Europe/Berlin
X-LIC-LOCATION:Europe/Berlin
BEGIN:STANDARD
DTSTART:20241027T020000
TZNAME:CET
TZOFFSETFROM:+0200
TZOFFSETTO:+0100
END:STANDARD
END:VTIMEZONE
END:VCALENDAR
