BEGIN:VCALENDAR
VERSION:2.0
PRODID:-//Plone.org//NONSGML plone.app.event//EN
X-WR-TIMEZONE:Europe/Berlin
BEGIN:VEVENT
SUMMARY:Als Erste*r in der Familie promovieren – Stärken und Herausford
 erungen – Online-Kurs
DTSTART;TZID=Europe/Berlin:20241011T090000
DTEND;TZID=Europe/Berlin:20241011T130000
DTSTAMP:20260422T022220Z
UID:42e2af2154014f76ab8067ed3065e853@www.uni-marburg.de
ATTENDEE;CN="Yvonne Gajer";ROLE=REQ-PARTICIPANT:Yvonne Gajer
ATTENDEE;CN="https://arbeiterkind.de/hessen";ROLE=REQ-PARTICIPANT:https://
 arbeiterkind.de/hessen
ATTENDEE;CN=;ROLE=REQ-PARTICIPANT:
ATTENDEE;CN="ArbeiterKind.de ist die größte Community für Studierende d
 er ersten Generation in Deutschland. In Marburg gibt es eine ehrenamtliche
  ArbeiterKind.de-Gruppe, die gerne mit Rat und Tat im Studium oder beim Be
 rufseinstieg zur Seite steht.";ROLE=REQ-PARTICIPANT:ArbeiterKind.de ist di
 e größte Community für Studierende der ersten Generation in Deutschland
 . In Marburg gibt es eine ehrenamtliche ArbeiterKind.de-Gruppe, die gerne 
 mit Rat und Tat im Studium oder beim Berufseinstieg zur Seite steht.
CREATED:20191119T114031Z
DESCRIPTION:https://www.uni-marburg.de/de/mara/aktuelles-mara/events/2024/
 programm-geistes-und-sozialwissenschaften/als-erste-r-promovieren\n
LAST-MODIFIED:20240205T075321Z
LOCATION:Online
URL:https://www.uni-marburg.de/de/mara/aktuelles-mara/events/2024/programm
 -geistes-und-sozialwissenschaften/als-erste-r-promovieren
END:VEVENT
BEGIN:VTIMEZONE
TZID:Europe/Berlin
X-LIC-LOCATION:Europe/Berlin
BEGIN:DAYLIGHT
DTSTART:20240331T030000
TZNAME:CEST
TZOFFSETFROM:+0100
TZOFFSETTO:+0200
END:DAYLIGHT
END:VTIMEZONE
END:VCALENDAR
