BEGIN:VCALENDAR
VERSION:2.0
PRODID:-//Plone.org//NONSGML plone.app.event//EN
X-WR-TIMEZONE:Europe/Berlin
BEGIN:VEVENT
SUMMARY:Finanzierung der Promotionsphase in den Geistes- und Sozialwissens
 chaften – Online-Kurs
DTSTART;TZID=Europe/Berlin:20240422T130000
DTEND;TZID=Europe/Berlin:20240422T170000
DTSTAMP:20260424T122400Z
UID:6939abd78ff843618eeee87977c60040@www.uni-marburg.de
ATTENDEE;CN="Dr. Andreas Stützer";ROLE=REQ-PARTICIPANT:Dr. Andreas Stütz
 er
ATTENDEE;CN="https://selbstdenker.info";ROLE=REQ-PARTICIPANT:https://selbs
 tdenker.info
CREATED:20211125T093529Z
DESCRIPTION:https://www.uni-marburg.de/de/mara/aktuelles-mara/events/2024/
 programm-geistes-und-sozialwissenschaften/finanzierung-der-promotionsphase
 -2\n
LAST-MODIFIED:20240221T074348Z
LOCATION:Online
URL:https://www.uni-marburg.de/de/mara/aktuelles-mara/events/2024/programm
 -geistes-und-sozialwissenschaften/finanzierung-der-promotionsphase-2
END:VEVENT
BEGIN:VTIMEZONE
TZID:Europe/Berlin
X-LIC-LOCATION:Europe/Berlin
BEGIN:DAYLIGHT
DTSTART:20240331T030000
TZNAME:CEST
TZOFFSETFROM:+0100
TZOFFSETTO:+0200
END:DAYLIGHT
END:VTIMEZONE
END:VCALENDAR
