BEGIN:VCALENDAR
VERSION:2.0
PRODID:-//Plone.org//NONSGML plone.app.event//EN
X-WR-TIMEZONE:Europe/Berlin
BEGIN:VEVENT
SUMMARY:Finanzierung der Promotionsphase in den Geistes- und Sozialwissens
 chaften – Online-Kurs
DTSTART;TZID=Europe/Berlin:20240130T130000
DTEND;TZID=Europe/Berlin:20240130T170000
DTSTAMP:20260424T135723Z
UID:2288b39d64d847ba8e15f5c2923413ff@www.uni-marburg.de
ATTENDEE;CN="Dr. Andreas Stützer";ROLE=REQ-PARTICIPANT:Dr. Andreas Stütz
 er
ATTENDEE;CN="https://selbstdenker.info";ROLE=REQ-PARTICIPANT:https://selbs
 tdenker.info
CREATED:20211125T093529Z
DESCRIPTION:https://www.uni-marburg.de/de/mara/aktuelles-mara/events/2024/
 programm-geistes-und-sozialwissenschaften/finanzierung-der-promotionsphase
 \n
LAST-MODIFIED:20230913T160934Z
LOCATION:Online
URL:https://www.uni-marburg.de/de/mara/aktuelles-mara/events/2024/programm
 -geistes-und-sozialwissenschaften/finanzierung-der-promotionsphase
END:VEVENT
BEGIN:VTIMEZONE
TZID:Europe/Berlin
X-LIC-LOCATION:Europe/Berlin
BEGIN:STANDARD
DTSTART:20231029T020000
TZNAME:CET
TZOFFSETFROM:+0200
TZOFFSETTO:+0100
END:STANDARD
END:VTIMEZONE
END:VCALENDAR
