BEGIN:VCALENDAR
VERSION:2.0
PRODID:-//Plone.org//NONSGML plone.app.event//EN
X-WR-TIMEZONE:Europe/Berlin
BEGIN:VEVENT
SUMMARY:Relationale Datenbanken mit NocoDB – Online-Kurs
DTSTART;TZID=Europe/Berlin:20241119T090000
DTEND;TZID=Europe/Berlin:20241119T144500
DTSTAMP:20260422T210552Z
UID:c7e755a6c3bc4a9bb8c9de3ef2a0ac8f@www.uni-marburg.de
ATTENDEE;CN="Robert Zwick";ROLE=REQ-PARTICIPANT:Robert Zwick
ATTENDEE;CN="https://hermes-hub.de";ROLE=REQ-PARTICIPANT:https://hermes-hu
 b.de
CREATED:20211125T093529Z
DESCRIPTION:https://www.uni-marburg.de/de/mara/aktuelles-mara/events/2024/
 programm-geistes-und-sozialwissenschaften/nocodb\n
LAST-MODIFIED:20240911T065551Z
LOCATION:Online
URL:https://www.uni-marburg.de/de/mara/aktuelles-mara/events/2024/programm
 -geistes-und-sozialwissenschaften/nocodb
END:VEVENT
BEGIN:VTIMEZONE
TZID:Europe/Berlin
X-LIC-LOCATION:Europe/Berlin
BEGIN:STANDARD
DTSTART:20241027T020000
TZNAME:CET
TZOFFSETFROM:+0200
TZOFFSETTO:+0100
END:STANDARD
END:VTIMEZONE
END:VCALENDAR
