BEGIN:VCALENDAR
VERSION:2.0
PRODID:-//Plone.org//NONSGML plone.app.event//EN
X-WR-TIMEZONE:Europe/Berlin
BEGIN:VEVENT
SUMMARY:Online-Schreibretreat
DTSTART;TZID=Europe/Berlin:20240819T090000
DTEND;TZID=Europe/Berlin:20240819T170000
DTSTAMP:20260424T122447Z
UID:5916c77e5aea499a96ce133fc7dadd96@www.uni-marburg.de
RRULE:FREQ=DAILY;UNTIL=20240830T000000
EXDATE;TZID=Europe/Berlin:20240824T090000,20240825T090000
ATTENDEE;CN="Dr. Alexander Egeling, www.alexander-egeling.de";ROLE=REQ-PAR
 TICIPANT:Dr. Alexander Egeling, www.alexander-egeling.de
CREATED:20191119T114031Z
DESCRIPTION:https://www.uni-marburg.de/de/mara/aktuelles-mara/events/2024/
 programm-geistes-und-sozialwissenschaften/online-schreibretreat\n
LAST-MODIFIED:20240205T081208Z
LOCATION:Online
URL:https://www.uni-marburg.de/de/mara/aktuelles-mara/events/2024/programm
 -geistes-und-sozialwissenschaften/online-schreibretreat
END:VEVENT
BEGIN:VTIMEZONE
TZID:Europe/Berlin
X-LIC-LOCATION:Europe/Berlin
BEGIN:DAYLIGHT
DTSTART:20240331T030000
TZNAME:CEST
TZOFFSETFROM:+0100
TZOFFSETTO:+0200
END:DAYLIGHT
END:VTIMEZONE
END:VCALENDAR
