BEGIN:VCALENDAR
VERSION:2.0
PRODID:-//Plone.org//NONSGML plone.app.event//EN
X-WR-TIMEZONE:Europe/Berlin
BEGIN:VEVENT
SUMMARY:Schreibwerkstatt – Arbeitstechniken für die wissenschaftliche T
 extproduktion in den Geistes- und Sozialwissenschaften
DTSTART;TZID=Europe/Berlin:20240325T090000
DTEND;TZID=Europe/Berlin:20240325T170000
DTSTAMP:20260424T045742Z
UID:e2c8e292b6994b2dbf2daf62fbf6f0db@www.uni-marburg.de
ATTENDEE;CN="Dr. Anselm Spindler";ROLE=REQ-PARTICIPANT:Dr. Anselm Spindler
ATTENDEE;CN=www.trainofthought.de;ROLE=REQ-PARTICIPANT:www.trainofthought.
 de
CREATED:20180110T094845Z
DESCRIPTION:https://www.uni-marburg.de/de/mara/aktuelles-mara/events/2024/
 programm-geistes-und-sozialwissenschaften/sw-arbeitstechniken\n
LAST-MODIFIED:20231018T090248Z
LOCATION:Philipps-Universität Marburg\, MARA\, F|05\, Deutschhausstraße 
 11+13\, Seminarraum 01.0010
URL:https://www.uni-marburg.de/de/mara/aktuelles-mara/events/2024/programm
 -geistes-und-sozialwissenschaften/sw-arbeitstechniken
END:VEVENT
BEGIN:VTIMEZONE
TZID:Europe/Berlin
X-LIC-LOCATION:Europe/Berlin
BEGIN:STANDARD
DTSTART:20231029T020000
TZNAME:CET
TZOFFSETFROM:+0200
TZOFFSETTO:+0100
END:STANDARD
END:VTIMEZONE
END:VCALENDAR
