BEGIN:VCALENDAR
VERSION:2.0
PRODID:-//Plone.org//NONSGML plone.app.event//EN
X-WR-TIMEZONE:Europe/Berlin
BEGIN:VEVENT
SUMMARY:Wie frage ich? – Grundlagen der Interviewleitfadenentwicklung un
 d Interviewführung – Online-Kurs
DTSTART;TZID=Europe/Berlin:20240205T090000
DTEND;TZID=Europe/Berlin:20240205T153000
DTSTAMP:20260424T053916Z
UID:78c8d8008910412d9892b85f359d2b4d@www.uni-marburg.de
RRULE:FREQ=DAILY;COUNT=2
ATTENDEE;CN="Dr. Sarah Weber";ROLE=REQ-PARTICIPANT:Dr. Sarah Weber
ATTENDEE;CN=www.sarah-weber.net;ROLE=REQ-PARTICIPANT:www.sarah-weber.net
CREATED:20191119T114031Z
DESCRIPTION:https://www.uni-marburg.de/de/mara/aktuelles-mara/events/2024/
 programm-geistes-und-sozialwissenschaften/wie-frage-ich\n
LAST-MODIFIED:20230913T161139Z
LOCATION:Online
URL:https://www.uni-marburg.de/de/mara/aktuelles-mara/events/2024/programm
 -geistes-und-sozialwissenschaften/wie-frage-ich
END:VEVENT
BEGIN:VTIMEZONE
TZID:Europe/Berlin
X-LIC-LOCATION:Europe/Berlin
BEGIN:STANDARD
DTSTART:20231029T020000
TZNAME:CET
TZOFFSETFROM:+0200
TZOFFSETTO:+0100
END:STANDARD
END:VTIMEZONE
END:VCALENDAR
