BEGIN:VCALENDAR
VERSION:2.0
PRODID:-//Plone.org//NONSGML plone.app.event//EN
X-WR-TIMEZONE:Europe/Berlin
BEGIN:VEVENT
SUMMARY:GMP-Aufbaukurs
DTSTART;TZID=Europe/Berlin:20241114T090000
DTEND;TZID=Europe/Berlin:20241114T170000
DTSTAMP:20260425T020244Z
UID:52826dc687a44b039106094f910744d2@www.uni-marburg.de
RRULE:FREQ=DAILY;COUNT=7
EXDATE;TZID=Europe/Berlin:20241116T090000,20241116T090000,20241117T090000,
 20241117T090000,20241118T090000,20241118T090000,20241119T090000,20241119T0
 90000,20241120T090000,20241120T090000
ATTENDEE;CN="Dr. Heinrich Prinz";ROLE=REQ-PARTICIPANT:Dr. Heinrich Prinz
ATTENDEE;CN="Dr. Christoph Prinz";ROLE=REQ-PARTICIPANT:Dr. Christoph Prinz
CREATED:20210629T124011Z
DESCRIPTION:https://www.uni-marburg.de/de/mara/aktuelles-mara/events/2024/
 programm-lebens-und-naturwissenschaften/gmp-aufbaukurs\n
LAST-MODIFIED:20240116T095509Z
LOCATION:Philipps-Universität Marburg\, MARA\, F|05\, Deutschhausstraße 
 11+13\, Seminarraum 01.0010
URL:https://www.uni-marburg.de/de/mara/aktuelles-mara/events/2024/programm
 -lebens-und-naturwissenschaften/gmp-aufbaukurs
END:VEVENT
BEGIN:VTIMEZONE
TZID:Europe/Berlin
X-LIC-LOCATION:Europe/Berlin
BEGIN:STANDARD
DTSTART:20241027T020000
TZNAME:CET
TZOFFSETFROM:+0200
TZOFFSETTO:+0100
END:STANDARD
END:VTIMEZONE
END:VCALENDAR
