BEGIN:VCALENDAR
VERSION:2.0
PRODID:-//Plone.org//NONSGML plone.app.event//EN
X-WR-TIMEZONE:Europe/Berlin
BEGIN:VEVENT
SUMMARY:Gute wissenschaftliche Praxis – Onlineveranstaltung
DTSTART;VALUE=DATE:20241126
DTEND;VALUE=DATE:20241127
DTSTAMP:20260425T014909Z
UID:a6d8fb7c3bdd48fd9d8f8308d6f55a79@www.uni-marburg.de
RRULE:FREQ=DAILY;COUNT=2
RDATE:20241127
ATTENDEE;CN="PD Dr. Andrea Kliewer";ROLE=REQ-PARTICIPANT:PD Dr. Andrea Kli
 ewer
CREATED:20201202T133549Z
DESCRIPTION:https://www.uni-marburg.de/de/mara/aktuelles-mara/events/2024/
 programm-lebens-und-naturwissenschaften/gute-wissenschaftliche-praxis\n
LAST-MODIFIED:20241007T092157Z
LOCATION:Online – Zoom
URL:https://www.uni-marburg.de/de/mara/aktuelles-mara/events/2024/programm
 -lebens-und-naturwissenschaften/gute-wissenschaftliche-praxis
END:VEVENT
END:VCALENDAR
