BEGIN:VCALENDAR
VERSION:2.0
PRODID:-//Plone.org//NONSGML plone.app.event//EN
X-WR-TIMEZONE:Europe/Berlin
BEGIN:VEVENT
SUMMARY:Risiken und Nebenwirkungen in Wissenschaft und Technik – Organis
 ationsrelevante Themen früh erkennen und managen mit dem Issue Management
DTSTART;TZID=Europe/Berlin:20240919T090000
DTEND;TZID=Europe/Berlin:20240919T163000
DTSTAMP:20260425T025807Z
UID:192c3ed22f054c6c900376e3ed939814@www.uni-marburg.de
RRULE:FREQ=DAILY;COUNT=8
EXDATE;TZID=Europe/Berlin:20240920T090000,20240921T090000,20240922T090000,
 20240923T090000,20240924T090000,20240925T090000
ATTENDEE;CN="Prof. Dr. Marcellus Peuckert";ROLE=REQ-PARTICIPANT:Prof. Dr. 
 Marcellus Peuckert
CREATED:20181130T095409Z
DESCRIPTION:https://www.uni-marburg.de/de/mara/aktuelles-mara/events/2024/
 programm-lebens-und-naturwissenschaften/technikfolgenabschaetzung\n
LAST-MODIFIED:20240117T073035Z
LOCATION:Philipps-Universität Marburg\, MARA\, F|05\, Deutschhausstraße 
 11+13\, Seminarraum 01.0010
URL:https://www.uni-marburg.de/de/mara/aktuelles-mara/events/2024/programm
 -lebens-und-naturwissenschaften/technikfolgenabschaetzung
END:VEVENT
BEGIN:VTIMEZONE
TZID:Europe/Berlin
X-LIC-LOCATION:Europe/Berlin
BEGIN:DAYLIGHT
DTSTART:20240331T030000
TZNAME:CEST
TZOFFSETFROM:+0100
TZOFFSETTO:+0200
END:DAYLIGHT
END:VTIMEZONE
END:VCALENDAR
