BEGIN:VCALENDAR
VERSION:2.0
PRODID:-//Plone.org//NONSGML plone.app.event//EN
X-WR-TIMEZONE:Europe/Berlin
BEGIN:VEVENT
SUMMARY:Praxisteil Versuchstierkunde – Tierschutzgerechter Umgang mit La
 bormäusen
DTSTART;VALUE=DATE:20240319
DTEND;VALUE=DATE:20240321
DTSTAMP:20260425T233657Z
UID:3409a7427ab5459983236296231d240a@www.uni-marburg.de
ATTENDEE;CN="Dr. Cornelia Exner";ROLE=REQ-PARTICIPANT:Dr. Cornelia Exner
ATTENDEE;CN="Dr. André Kaminiarz";ROLE=REQ-PARTICIPANT:Dr. André Kaminia
 rz
ATTENDEE;CN="Dr. Hosam Shams-Eldin";ROLE=REQ-PARTICIPANT:Dr. Hosam Shams-E
 ldin
ATTENDEE;CN="Dr. Sabrina Elmshäuser";ROLE=REQ-PARTICIPANT:Dr. Sabrina Elm
 shäuser
CREATED:20201222T173710Z
DESCRIPTION:https://www.uni-marburg.de/de/mara/aktuelles-mara/events/2024/
 programm-lebens-und-naturwissenschaften/versuchstierkunde-tierschutzgerech
 ter-umgang-mit-labormaeusen-1\n
LAST-MODIFIED:20240117T074123Z
LOCATION:Biochemisch-Pharmakologisches Centrum (BPC)\, Karl-von-Frisch-Str
 aße 2\, Praktikumsräume -1/1070 und -1/1060
URL:https://www.uni-marburg.de/de/mara/aktuelles-mara/events/2024/programm
 -lebens-und-naturwissenschaften/versuchstierkunde-tierschutzgerechter-umga
 ng-mit-labormaeusen-1
END:VEVENT
END:VCALENDAR
