BEGIN:VCALENDAR
VERSION:2.0
PRODID:-//Plone.org//NONSGML plone.app.event//EN
X-WR-TIMEZONE:Europe/Berlin
BEGIN:VEVENT
SUMMARY:Online-Informationsveranstaltung der MARA für Promovierende und P
 ostdocs
DTSTART;TZID=Europe/Berlin:20251024T100000
DTEND;TZID=Europe/Berlin:20251024T110000
DTSTAMP:20260424T183851Z
UID:0ae59cf9146949029d6ca30565925517@www.uni-marburg.de
ATTENDEE;CN="Dr. Ines Braune (Geschäftsführung der MARA)";ROLE=REQ-PARTI
 CIPANT:Dr. Ines Braune (Geschäftsführung der MARA)
ATTENDEE;CN="Dr. Karin Awe (Koordinatorin des Promovierendenprogramms der 
 MARA)";ROLE=REQ-PARTICIPANT:Dr. Karin Awe (Koordinatorin des Promovierende
 nprogramms der MARA)
ATTENDEE;CN="Dr. Christine Berger (Koordinatorin des Postdocprogramms der 
 MARA)";ROLE=REQ-PARTICIPANT:Dr. Christine Berger (Koordinatorin des Postdo
 cprogramms der MARA)
ATTENDEE;CN="Dr. Jan-Paul Klünder (Referent Fördermöglichkeiten und Öf
 fentlichkeitsarbeit der MARA)";ROLE=REQ-PARTICIPANT:Dr. Jan-Paul Klünder 
 (Referent Fördermöglichkeiten und Öffentlichkeitsarbeit der MARA)
CATEGORIES:()
CREATED:20181203T210138Z
DESCRIPTION:https://www.uni-marburg.de/de/mara/aktuelles-mara/events/2025/
 geschaeftsfuehrungsbereich/mara-infoveranstaltung_herbst\nIn dieser Online
 -Informationsveranstaltung erhalten Sie einen Überblick über die Angebot
 e der MARA für Promovierende und Postdocs.
LAST-MODIFIED:20251024T085156Z
LOCATION:Online
URL:https://www.uni-marburg.de/de/mara/aktuelles-mara/events/2025/geschaef
 tsfuehrungsbereich/mara-infoveranstaltung_herbst
END:VEVENT
BEGIN:VTIMEZONE
TZID:Europe/Berlin
X-LIC-LOCATION:Europe/Berlin
BEGIN:DAYLIGHT
DTSTART:20250330T030000
TZNAME:CEST
TZOFFSETFROM:+0100
TZOFFSETTO:+0200
END:DAYLIGHT
END:VTIMEZONE
END:VCALENDAR
