BEGIN:VCALENDAR
VERSION:2.0
PRODID:-//Plone.org//NONSGML plone.app.event//EN
X-WR-TIMEZONE:Europe/Berlin
BEGIN:VEVENT
SUMMARY:Welcome Run für Promovierende und Postdocs
DTSTART;TZID=Europe/Berlin:20250521T120000
DTEND;TZID=Europe/Berlin:20250521T130000
DTSTAMP:20260421T122532Z
UID:cb6833e2db254cecb6a0728efb746c3e@www.uni-marburg.de
ATTENDEE;CN="Dr. Ines Braune";ROLE=REQ-PARTICIPANT:Dr. Ines Braune
CREATED:20240828T073554Z
DESCRIPTION:https://www.uni-marburg.de/de/mara/aktuelles-mara/events/2025/
 geschaeftsfuehrungsbereich/welcome-run\n
LAST-MODIFIED:20250408T080910Z
LOCATION:Uni-Stadion
URL:https://www.uni-marburg.de/de/mara/aktuelles-mara/events/2025/geschaef
 tsfuehrungsbereich/welcome-run
END:VEVENT
BEGIN:VTIMEZONE
TZID:Europe/Berlin
X-LIC-LOCATION:Europe/Berlin
BEGIN:DAYLIGHT
DTSTART:20250330T030000
TZNAME:CEST
TZOFFSETFROM:+0100
TZOFFSETTO:+0200
END:DAYLIGHT
END:VTIMEZONE
END:VCALENDAR
