BEGIN:VCALENDAR
VERSION:2.0
PRODID:-//Plone.org//NONSGML plone.app.event//EN
X-WR-TIMEZONE:Europe/Berlin
BEGIN:VEVENT
SUMMARY:Welcome Walk
DTSTART;TZID=Europe/Berlin:20250306T100000
DTEND;TZID=Europe/Berlin:20250306T120000
DTSTAMP:20260425T042009Z
UID:4ad2cb75ed7446d89113cbf2660e4040@www.uni-marburg.de
ATTENDEE;CN="Dr. Ines Braune";ROLE=REQ-PARTICIPANT:Dr. Ines Braune
CREATED:20240828T073554Z
DESCRIPTION:https://www.uni-marburg.de/de/mara/aktuelles-mara/events/2025/
 geschaeftsfuehrungsbereich/welcome-walk_19-11-2024\n
LAST-MODIFIED:20250303T081107Z
LOCATION:Haupteingang Mensa Erlenring (im Lahntal)
URL:https://www.uni-marburg.de/de/mara/aktuelles-mara/events/2025/geschaef
 tsfuehrungsbereich/welcome-walk_19-11-2024
END:VEVENT
BEGIN:VTIMEZONE
TZID:Europe/Berlin
X-LIC-LOCATION:Europe/Berlin
BEGIN:STANDARD
DTSTART:20241027T020000
TZNAME:CET
TZOFFSETFROM:+0200
TZOFFSETTO:+0100
END:STANDARD
END:VTIMEZONE
END:VCALENDAR
