BEGIN:VCALENDAR
VERSION:2.0
PRODID:-//Plone.org//NONSGML plone.app.event//EN
X-WR-TIMEZONE:Europe/Berlin
BEGIN:VEVENT
SUMMARY:Welcome Walk
DTSTART;TZID=Europe/Berlin:20251030T140000
DTEND;TZID=Europe/Berlin:20251030T160000
DTSTAMP:20260424T231030Z
UID:0b5851c6f9e8486dbb22dfcb1535f250@www.uni-marburg.de
ATTENDEE;CN="Dr. Ines Braune";ROLE=REQ-PARTICIPANT:Dr. Ines Braune
CATEGORIES:()
CREATED:20240828T073554Z
DESCRIPTION:https://www.uni-marburg.de/de/mara/aktuelles-mara/events/2025/
 geschaeftsfuehrungsbereich/welcome-walk_30-10-2025\n
LAST-MODIFIED:20250925T085446Z
LOCATION:Haupteingang Mensa Erlenring (im Lahntal)
URL:https://www.uni-marburg.de/de/mara/aktuelles-mara/events/2025/geschaef
 tsfuehrungsbereich/welcome-walk_30-10-2025
END:VEVENT
BEGIN:VTIMEZONE
TZID:Europe/Berlin
X-LIC-LOCATION:Europe/Berlin
BEGIN:STANDARD
DTSTART:20251026T020000
TZNAME:CET
TZOFFSETFROM:+0200
TZOFFSETTO:+0100
END:STANDARD
END:VTIMEZONE
END:VCALENDAR
