BEGIN:VCALENDAR
VERSION:2.0
PRODID:-//Plone.org//NONSGML plone.app.event//EN
X-WR-TIMEZONE:Europe/Berlin
BEGIN:VEVENT
SUMMARY:EMF – Anmeldung zum Zertifikatsprogramm EMF
DTSTART;VALUE=DATE:20250131
DTEND;VALUE=DATE:20250201
DTSTAMP:20260422T014809Z
UID:09b768ad169a4af7be379dd8bd3ed47b@www.uni-marburg.de
ATTENDEE;CN=Verschiedene;ROLE=REQ-PARTICIPANT:Verschiedene
CATEGORIES:()
CREATED:20181203T210138Z
DESCRIPTION:https://www.uni-marburg.de/de/mara/aktuelles-mara/events/2025/
 postdocprogramm/emf-anmeldung\nInformation zur Anmeldung zum Zertifikatspr
 ogramm EMF
LAST-MODIFIED:20251104T090419Z
LOCATION:Anmeldung Online über die externe Datenbank Campus Events
URL:https://www.uni-marburg.de/de/mara/aktuelles-mara/events/2025/postdocp
 rogramm/emf-anmeldung
END:VEVENT
END:VCALENDAR
