BEGIN:VCALENDAR
VERSION:2.0
PRODID:-//Plone.org//NONSGML plone.app.event//EN
X-WR-TIMEZONE:Europe/Berlin
BEGIN:VEVENT
SUMMARY:EMF – Deutsche und europäische Forschungsförderung im Überbli
 ck – Onlineveranstaltung
DTSTART;TZID=Europe/Berlin:20250208T090000
DTEND;TZID=Europe/Berlin:20250208T163000
DTSTAMP:20260419T190327Z
UID:b8d88010a5524b3da079e3b5f05890f1@www.uni-marburg.de
ATTENDEE;CN="Dr. Christine Schmidt";ROLE=REQ-PARTICIPANT:Dr. Christine Sch
 midt
ATTENDEE;CN=www.karrierecoachingwissenschaft.de;ROLE=REQ-PARTICIPANT:www.k
 arrierecoachingwissenschaft.de
CREATED:20181203T210138Z
DESCRIPTION:https://www.uni-marburg.de/de/mara/aktuelles-mara/events/2025/
 postdocprogramm/emf-forschungsfoerderung\nLernen Sie in dieser Veranstaltu
 ng die deutsche und europäische Forschungsförderung kennen.
LAST-MODIFIED:20241024T134559Z
LOCATION:Online
URL:https://www.uni-marburg.de/de/mara/aktuelles-mara/events/2025/postdocp
 rogramm/emf-forschungsfoerderung
END:VEVENT
BEGIN:VTIMEZONE
TZID:Europe/Berlin
X-LIC-LOCATION:Europe/Berlin
BEGIN:STANDARD
DTSTART:20241027T020000
TZNAME:CET
TZOFFSETFROM:+0200
TZOFFSETTO:+0100
END:STANDARD
END:VTIMEZONE
END:VCALENDAR
