BEGIN:VCALENDAR
VERSION:2.0
PRODID:-//Plone.org//NONSGML plone.app.event//EN
X-WR-TIMEZONE:Europe/Berlin
BEGIN:VEVENT
SUMMARY:EMF –  Informationsveranstaltung zum Programm „Entwicklung und
  Management von Forschungsprojekten“
DTSTART;TZID=Europe/Berlin:20251111T120000
DTEND;TZID=Europe/Berlin:20251111T130000
DTSTAMP:20260421T090956Z
UID:ab704f9001ff4e8c8310e8e611d2a310@www.uni-marburg.de
ATTENDEE;CN="Dr. Christine Berger";ROLE=REQ-PARTICIPANT:Dr. Christine Berg
 er
ATTENDEE;CN=;ROLE=REQ-PARTICIPANT:
CATEGORIES:()
CREATED:20181203T210138Z
DESCRIPTION:https://www.uni-marburg.de/de/mara/aktuelles-mara/events/2025/
 postdocprogramm/emf-info-mr-nov25\nIn dieser Informationsveranstaltung bek
 ommen Sie einen Überblick über die Ziele sowie den Ablauf des Zertifikat
 programms „Entwicklung und Management von Forschungsprojekten" (EMF) und
  lernen dessen Module Projektentwicklung und Projektbeantragung\, Projektm
 anagement\, Präsentation von Forschungsprojekten und Transfer kennen.
LAST-MODIFIED:20250916T104956Z
LOCATION:Online in BigBlueButton
URL:https://www.uni-marburg.de/de/mara/aktuelles-mara/events/2025/postdocp
 rogramm/emf-info-mr-nov25
END:VEVENT
BEGIN:VTIMEZONE
TZID:Europe/Berlin
X-LIC-LOCATION:Europe/Berlin
BEGIN:STANDARD
DTSTART:20251026T020000
TZNAME:CET
TZOFFSETFROM:+0200
TZOFFSETTO:+0100
END:STANDARD
END:VTIMEZONE
END:VCALENDAR
