BEGIN:VCALENDAR
VERSION:2.0
PRODID:-//Plone.org//NONSGML plone.app.event//EN
X-WR-TIMEZONE:Europe/Berlin
BEGIN:VEVENT
SUMMARY:Als Erste*r in der Familie promovieren – Stärken und Herausford
 erungen – Onlineveranstaltung
DTSTART;TZID=Europe/Berlin:20250708T090000
DTEND;TZID=Europe/Berlin:20250708T130000
DTSTAMP:20260422T022230Z
UID:477cbe23407248da82150c53a91ec1a0@www.uni-marburg.de
ATTENDEE;CN="Yvonne Gajer";ROLE=REQ-PARTICIPANT:Yvonne Gajer
ATTENDEE;CN="https://arbeiterkind.de/hessen";ROLE=REQ-PARTICIPANT:https://
 arbeiterkind.de/hessen
CREATED:20191119T114031Z
DESCRIPTION:https://www.uni-marburg.de/de/mara/aktuelles-mara/events/2025/
 programm-geistes-und-sozialwissenschaften/als-erste-r-promovieren\n
LAST-MODIFIED:20250212T072921Z
LOCATION:Online
URL:https://www.uni-marburg.de/de/mara/aktuelles-mara/events/2025/programm
 -geistes-und-sozialwissenschaften/als-erste-r-promovieren
END:VEVENT
BEGIN:VTIMEZONE
TZID:Europe/Berlin
X-LIC-LOCATION:Europe/Berlin
BEGIN:DAYLIGHT
DTSTART:20250330T030000
TZNAME:CEST
TZOFFSETFROM:+0100
TZOFFSETTO:+0200
END:DAYLIGHT
END:VTIMEZONE
END:VCALENDAR
