BEGIN:VCALENDAR
VERSION:2.0
PRODID:-//Plone.org//NONSGML plone.app.event//EN
X-WR-TIMEZONE:Europe/Berlin
BEGIN:VEVENT
SUMMARY:Familie UND wissenschaftliche Karriere meistern – Onlineveransta
 ltung
DTSTART;TZID=Europe/Berlin:20250324T090000
DTEND;TZID=Europe/Berlin:20250324T160000
DTSTAMP:20260424T234214Z
UID:a481214961164df8bc0ca07ef8b5ddb7@www.uni-marburg.de
RRULE:FREQ=DAILY;UNTIL=20250325T000000
ATTENDEE;CN="Antje Rach";ROLE=REQ-PARTICIPANT:Antje Rach
ATTENDEE;CN=www.worteundwandel.de;ROLE=REQ-PARTICIPANT:www.worteundwandel.
 de
CREATED:20191119T114031Z
DESCRIPTION:https://www.uni-marburg.de/de/mara/aktuelles-mara/events/2025/
 programm-geistes-und-sozialwissenschaften/familie-und-karriere\n
LAST-MODIFIED:20240628T093426Z
LOCATION:Online – Zoom
URL:https://www.uni-marburg.de/de/mara/aktuelles-mara/events/2025/programm
 -geistes-und-sozialwissenschaften/familie-und-karriere
END:VEVENT
BEGIN:VTIMEZONE
TZID:Europe/Berlin
X-LIC-LOCATION:Europe/Berlin
BEGIN:STANDARD
DTSTART:20241027T020000
TZNAME:CET
TZOFFSETFROM:+0200
TZOFFSETTO:+0100
END:STANDARD
END:VTIMEZONE
END:VCALENDAR
