BEGIN:VCALENDAR
VERSION:2.0
PRODID:-//Plone.org//NONSGML plone.app.event//EN
X-WR-TIMEZONE:Europe/Berlin
BEGIN:VEVENT
SUMMARY:Online-Schreibretreat
DTSTART;TZID=Europe/Berlin:20250825T090000
DTEND;TZID=Europe/Berlin:20250825T170000
DTSTAMP:20260424T172610Z
UID:471b44513a4e4565b4095340d6011fee@www.uni-marburg.de
RRULE:FREQ=DAILY;UNTIL=20250905T000000
EXDATE;TZID=Europe/Berlin:20240824T090000,20240825T090000,20250830T090000,
 20250831T090000
ATTENDEE;CN="Dr. Alexander Egeling";ROLE=REQ-PARTICIPANT:Dr. Alexander Ege
 ling
ATTENDEE;CN=www.alexander-egeling.de;ROLE=REQ-PARTICIPANT:www.alexander-eg
 eling.de
CREATED:20191119T114031Z
DESCRIPTION:https://www.uni-marburg.de/de/mara/aktuelles-mara/events/2025/
 programm-geistes-und-sozialwissenschaften/online-schreibretreat\n
LAST-MODIFIED:20250217T075734Z
LOCATION:Online
URL:https://www.uni-marburg.de/de/mara/aktuelles-mara/events/2025/programm
 -geistes-und-sozialwissenschaften/online-schreibretreat
END:VEVENT
BEGIN:VTIMEZONE
TZID:Europe/Berlin
X-LIC-LOCATION:Europe/Berlin
BEGIN:DAYLIGHT
DTSTART:20250330T030000
TZNAME:CEST
TZOFFSETFROM:+0100
TZOFFSETTO:+0200
END:DAYLIGHT
END:VTIMEZONE
END:VCALENDAR
