BEGIN:VCALENDAR
VERSION:2.0
PRODID:-//Plone.org//NONSGML plone.app.event//EN
X-WR-TIMEZONE:Europe/Berlin
BEGIN:VEVENT
SUMMARY:Bewerben um Promotionsstipendien – Onlineveranstaltung
DTSTART;TZID=Europe/Berlin:20250509T090000
DTEND;TZID=Europe/Berlin:20250509T130000
DTSTAMP:20260423T231932Z
UID:2e54695293864c69a54bf9fc13900427@www.uni-marburg.de
ATTENDEE;CN="Dr. Andreas Stützer";ROLE=REQ-PARTICIPANT:Dr. Andreas Stütz
 er
ATTENDEE;CN="https://selbstdenker.info";ROLE=REQ-PARTICIPANT:https://selbs
 tdenker.info
CREATED:20180110T094845Z
DESCRIPTION:https://www.uni-marburg.de/de/mara/aktuelles-mara/events/2025/
 programm-geistes-und-sozialwissenschaften/promotionsstipendien\n
LAST-MODIFIED:20240708T084736Z
LOCATION:Online
URL:https://www.uni-marburg.de/de/mara/aktuelles-mara/events/2025/programm
 -geistes-und-sozialwissenschaften/promotionsstipendien
END:VEVENT
BEGIN:VTIMEZONE
TZID:Europe/Berlin
X-LIC-LOCATION:Europe/Berlin
BEGIN:DAYLIGHT
DTSTART:20250330T030000
TZNAME:CEST
TZOFFSETFROM:+0100
TZOFFSETTO:+0200
END:DAYLIGHT
END:VTIMEZONE
END:VCALENDAR
