BEGIN:VCALENDAR
VERSION:2.0
PRODID:-//Plone.org//NONSGML plone.app.event//EN
X-WR-TIMEZONE:Europe/Berlin
BEGIN:VEVENT
SUMMARY:Schreibwerkstatt – Das wissenschaftliche Exposé in den Geistes-
  und Sozialwissenschaften – Onlineveranstaltung
DTSTART;VALUE=DATE:20250711
DTEND;VALUE=DATE:20250712
DTSTAMP:20260422T121343Z
UID:3afb16b538534ef89f3127c6df64576e@www.uni-marburg.de
RRULE:FREQ=DAILY;COUNT=2
RDATE:20250926
EXDATE:20221101,20221102,20221103,20221104,20221105,20221106,20230902,2024
 0914,20250712
ATTENDEE;CN="Dr. Anna Brake";ROLE=REQ-PARTICIPANT:Dr. Anna Brake
CREATED:20191119T114031Z
DESCRIPTION:https://www.uni-marburg.de/de/mara/aktuelles-mara/events/2025/
 programm-geistes-und-sozialwissenschaften/sw-expose\n
LAST-MODIFIED:20250224T065911Z
LOCATION:Online
URL:https://www.uni-marburg.de/de/mara/aktuelles-mara/events/2025/programm
 -geistes-und-sozialwissenschaften/sw-expose
END:VEVENT
END:VCALENDAR
