BEGIN:VCALENDAR
VERSION:2.0
PRODID:-//Plone.org//NONSGML plone.app.event//EN
X-WR-TIMEZONE:Europe/Berlin
BEGIN:VEVENT
SUMMARY:Forschungsdatenmanagement – Projekt- und Datenmanagement (FAIR D
 ata)
DTSTART;TZID=Europe/Berlin:20250224T090000
DTEND;TZID=Europe/Berlin:20250224T130000
DTSTAMP:20260423T234021Z
UID:b6cea5d5ccf143cfadf1b0c388a9aa25@www.uni-marburg.de
ATTENDEE;CN="Dr. Lydia Riedl";ROLE=REQ-PARTICIPANT:Dr. Lydia Riedl
ATTENDEE;CN="Dr. Christian Berger";ROLE=REQ-PARTICIPANT:Dr. Christian Berg
 er
ATTENDEE;CN=www.uni-marburg.de/eresearch;ROLE=REQ-PARTICIPANT:www.uni-marb
 urg.de/eresearch
CREATED:20210414T125521Z
DESCRIPTION:https://www.uni-marburg.de/de/mara/aktuelles-mara/events/2025/
 programm-lebens-und-naturwissenschaften/forschungsdatenmanagement-fair-dat
 a\n
LAST-MODIFIED:20240704T094058Z
LOCATION:Philipps-Universität Marburg\, MARA\, F|05\, Deutschhausstraße 
 11+13\, Seminarraum 01.0010
URL:https://www.uni-marburg.de/de/mara/aktuelles-mara/events/2025/programm
 -lebens-und-naturwissenschaften/forschungsdatenmanagement-fair-data
END:VEVENT
BEGIN:VTIMEZONE
TZID:Europe/Berlin
X-LIC-LOCATION:Europe/Berlin
BEGIN:STANDARD
DTSTART:20241027T020000
TZNAME:CET
TZOFFSETFROM:+0200
TZOFFSETTO:+0100
END:STANDARD
END:VTIMEZONE
END:VCALENDAR
