BEGIN:VCALENDAR
VERSION:2.0
PRODID:-//Plone.org//NONSGML plone.app.event//EN
X-WR-TIMEZONE:Europe/Berlin
BEGIN:VEVENT
SUMMARY:Gute wissenschaftliche Praxis – Onlineveranstaltung
DTSTART;VALUE=DATE:20251021
DTEND;VALUE=DATE:20251022
DTSTAMP:20260424T224023Z
UID:510a9b07e98f4717a40a66e27b2105ed@www.uni-marburg.de
RRULE:FREQ=DAILY;UNTIL=20251022T000000
ATTENDEE;CN="PD Dr. Andrea Kliewer";ROLE=REQ-PARTICIPANT:PD Dr. Andrea Kli
 ewer
CREATED:20201202T133549Z
DESCRIPTION:https://www.uni-marburg.de/de/mara/aktuelles-mara/events/2025/
 programm-lebens-und-naturwissenschaften/gute-wissenschaftliche-praxis\n
LAST-MODIFIED:20250213T115737Z
LOCATION:Online – Zoom
URL:https://www.uni-marburg.de/de/mara/aktuelles-mara/events/2025/programm
 -lebens-und-naturwissenschaften/gute-wissenschaftliche-praxis
END:VEVENT
END:VCALENDAR
