BEGIN:VCALENDAR
VERSION:2.0
PRODID:-//Plone.org//NONSGML plone.app.event//EN
X-WR-TIMEZONE:Europe/Berlin
BEGIN:VEVENT
SUMMARY:Welcome Walk
DTSTART;TZID=Europe/Berlin:20260303T100000
DTEND;TZID=Europe/Berlin:20260303T120000
DTSTAMP:20260424T152206Z
UID:f5c98428c3b84a59966cd9131be9ee7d@www.uni-marburg.de
ATTENDEE;CN="Dr. Ines Braune";ROLE=REQ-PARTICIPANT:Dr. Ines Braune
CATEGORIES:()
CREATED:20240828T073554Z
DESCRIPTION:https://www.uni-marburg.de/de/mara/aktuelles-mara/events/2026/
 geschaeftsfuehrungsbereich/welcome-walk_03-03-2026\n
LAST-MODIFIED:20260217T115253Z
LOCATION:Haupteingang Mensa Erlenring (im Lahntal)
URL:https://www.uni-marburg.de/de/mara/aktuelles-mara/events/2026/geschaef
 tsfuehrungsbereich/welcome-walk_03-03-2026
END:VEVENT
BEGIN:VTIMEZONE
TZID:Europe/Berlin
X-LIC-LOCATION:Europe/Berlin
BEGIN:STANDARD
DTSTART:20251026T020000
TZNAME:CET
TZOFFSETFROM:+0200
TZOFFSETTO:+0100
END:STANDARD
END:VTIMEZONE
END:VCALENDAR
