BEGIN:VCALENDAR
VERSION:2.0
PRODID:-//Plone.org//NONSGML plone.app.event//EN
X-WR-TIMEZONE:Europe/Berlin
BEGIN:VEVENT
SUMMARY:EMF – Anmeldung zum Zertifikatsprogramm EMF
DTSTART;VALUE=DATE:20260216
DTEND;VALUE=DATE:20260217
DTSTAMP:20260419T221829Z
UID:aac2f29516ea4d26a1ce23cd5ac10424@www.uni-marburg.de
ATTENDEE;CN=Verschiedene;ROLE=REQ-PARTICIPANT:Verschiedene
CATEGORIES:()
CREATED:20181203T210138Z
DESCRIPTION:https://www.uni-marburg.de/de/mara/aktuelles-mara/events/2026/
 postdocprogramm/emf-anmeldung\nAnmeldung verlängert bis 16.02.2026 // Inf
 ormation zur Anmeldung zum Zertifikatsprogramm EMF
LAST-MODIFIED:20260224T090504Z
LOCATION:Anmeldung Online über die externe Datenbank Campus Events
URL:https://www.uni-marburg.de/de/mara/aktuelles-mara/events/2026/postdocp
 rogramm/emf-anmeldung
END:VEVENT
END:VCALENDAR
