BEGIN:VCALENDAR
VERSION:2.0
PRODID:-//Plone.org//NONSGML plone.app.event//EN
X-WR-TIMEZONE:Europe/Berlin
BEGIN:VEVENT
SUMMARY:EMF – Feedback zum Antragsexposé – Onlineeinzelcoaching
DTSTART;VALUE=DATE:20260624
DTEND;VALUE=DATE:20260625
DTSTAMP:20260419T222357Z
UID:5a17d5249c854d3f90b343b8002d4578@www.uni-marburg.de
ATTENDEE;CN="Dr. Beate Scholz";ROLE=REQ-PARTICIPANT:Dr. Beate Scholz
ATTENDEE;CN=www.scholz-ctc.de;ROLE=REQ-PARTICIPANT:www.scholz-ctc.de
CATEGORIES:()
CREATED:20181203T210138Z
DESCRIPTION:https://www.uni-marburg.de/de/mara/aktuelles-mara/events/2026/
 postdocprogramm/emf-feedback\nIn einem einstündigen Einzelcoaching erhalt
 en Sie ein qualifiziertes Feedback zu Ihrem maximal 5-seitigen Antragsexpo
 sé.
LAST-MODIFIED:20251205T150009Z
LOCATION:Online
URL:https://www.uni-marburg.de/de/mara/aktuelles-mara/events/2026/postdocp
 rogramm/emf-feedback
END:VEVENT
END:VCALENDAR
