BEGIN:VCALENDAR
VERSION:2.0
PRODID:-//Plone.org//NONSGML plone.app.event//EN
X-WR-TIMEZONE:Europe/Berlin
BEGIN:VEVENT
SUMMARY:EMF – Präsentation von Drittmittelprojekten – Präsenzveranst
 altung
DTSTART;VALUE=DATE:20261021
DTEND;VALUE=DATE:20261022
DTSTAMP:20260419T155311Z
UID:a90f48131cb14741abf7b618602f1ed0@www.uni-marburg.de
RRULE:FREQ=DAILY;COUNT=2
ATTENDEE;CN="Dr. Martina van de Sand";ROLE=REQ-PARTICIPANT:Dr. Martina van
  de Sand
ATTENDEE;CN=www.vandesand-consulting.de;ROLE=REQ-PARTICIPANT:www.vandesand
 -consulting.de
CATEGORIES:()
CREATED:20181203T210138Z
DESCRIPTION:https://www.uni-marburg.de/de/mara/aktuelles-mara/events/2026/
 postdocprogramm/emf-praesentation\nTrainieren Sie in diesem Workshop die w
 irkungsvolle Präsentation Ihres Forschungsprojektes vor einem Begutachtun
 gsgremium und üben Sie den Umgang mit kritischen Fragen.
LAST-MODIFIED:20251205T155148Z
LOCATION:Philipps-Universität Marburg\, MARA\, F|05\, Deutschhausstraße 
 11+13\, Seminarraum 01.0010
URL:https://www.uni-marburg.de/de/mara/aktuelles-mara/events/2026/postdocp
 rogramm/emf-praesentation
END:VEVENT
END:VCALENDAR
