BEGIN:VCALENDAR
VERSION:2.0
PRODID:-//Plone.org//NONSGML plone.app.event//EN
X-WR-TIMEZONE:Europe/Berlin
BEGIN:VEVENT
SUMMARY:EMF – Informationsveranstaltung zum Wissenschaftszeitvertragsges
 etz – Onlineveranstaltung
DTSTART;TZID=Europe/Berlin:20261028T093000
DTEND;TZID=Europe/Berlin:20261028T113000
DTSTAMP:20260424T142921Z
UID:df47cf4e4e95413f97d7b1bc0a703834@www.uni-marburg.de
ATTENDEE;CN="Dr. Ulrike Preißler";ROLE=REQ-PARTICIPANT:Dr. Ulrike Preißl
 er
ATTENDEE;CN="https://preissler-academia-consult.de/";ROLE=REQ-PARTICIPANT:
 https://preissler-academia-consult.de/
CATEGORIES:()
CREATED:20181203T210138Z
DESCRIPTION:https://www.uni-marburg.de/de/mara/aktuelles-mara/events/2026/
 postdocprogramm/emf-wisszeitvg\nIn diesem Workshop erhalten Sie einen Übe
 rblick über die rechtlichen Grundlagen für befristete Arbeitsverträge f
 ür wissenschaftliche Mitarbeitende an Hochschulen und Forschungseinrichtu
 ngen.
LAST-MODIFIED:20260109T110400Z
LOCATION:Online
URL:https://www.uni-marburg.de/de/mara/aktuelles-mara/events/2026/postdocp
 rogramm/emf-wisszeitvg
END:VEVENT
BEGIN:VTIMEZONE
TZID:Europe/Berlin
X-LIC-LOCATION:Europe/Berlin
BEGIN:STANDARD
DTSTART:20261025T020000
TZNAME:CET
TZOFFSETFROM:+0200
TZOFFSETTO:+0100
END:STANDARD
END:VTIMEZONE
END:VCALENDAR
