BEGIN:VCALENDAR
VERSION:2.0
PRODID:-//Plone.org//NONSGML plone.app.event//EN
X-WR-TIMEZONE:Europe/Berlin
BEGIN:VEVENT
SUMMARY:Machtspiele in der Wissenschaft – Onlineveranstaltung
DTSTART;TZID=Europe/Berlin:20260320T090000
DTEND;TZID=Europe/Berlin:20260320T130000
DTSTAMP:20260419T214541Z
UID:a799834e773e420eab38f592874c2488@www.uni-marburg.de
ATTENDEE;CN="Dr. Elisabeth Hoffmann";ROLE=REQ-PARTICIPANT:Dr. Elisabeth Ho
 ffmann
CATEGORIES:()
CREATED:20220527T132757Z
DESCRIPTION:https://www.uni-marburg.de/de/mara/aktuelles-mara/events/2026/
 postdocprogramm/machtspiele\nIn diesem Workshop trainieren Sie Ihre kommun
 ikative Präsenz und Handlungssicherheit im akademischen Umfeld.
LAST-MODIFIED:20251222T082705Z
LOCATION:Online
URL:https://www.uni-marburg.de/de/mara/aktuelles-mara/events/2026/postdocp
 rogramm/machtspiele
END:VEVENT
BEGIN:VTIMEZONE
TZID:Europe/Berlin
X-LIC-LOCATION:Europe/Berlin
BEGIN:STANDARD
DTSTART:20251026T020000
TZNAME:CET
TZOFFSETFROM:+0200
TZOFFSETTO:+0100
END:STANDARD
END:VTIMEZONE
END:VCALENDAR
