BEGIN:VCALENDAR
VERSION:2.0
PRODID:-//Plone.org//NONSGML plone.app.event//EN
X-WR-TIMEZONE:Europe/Berlin
BEGIN:VEVENT
SUMMARY:Betreuung von Promovierenden – Onlineveranstaltung
DTSTART;TZID=Europe/Berlin:20260630T090000
DTEND;TZID=Europe/Berlin:20260630T130000
DTSTAMP:20260419T212542Z
UID:9d2565d91eab415eb62ccd3fe6159ff3@www.uni-marburg.de
ATTENDEE;CN="Dr. Jan Schmidt";ROLE=REQ-PARTICIPANT:Dr. Jan Schmidt
ATTENDEE;CN=www.janschmidt-training.de;ROLE=REQ-PARTICIPANT:www.janschmidt
 -training.de
CATEGORIES:()
CREATED:20181018T184907Z
DESCRIPTION:https://www.uni-marburg.de/de/mara/aktuelles-mara/events/2026/
 postdocprogramm/promotionsbetreuung\nIn diesem Workshop erkunden wir die A
 ufgabe "Betreuung von Promovierenden" anhand der soziologischen Rollentheo
 rie und übersetzen sie in die drei Dimensionen LEAD – TRAIN – FACILIT
 ATE. Gemeinsam entwickeln wir ein Verständnis dafür\, wie diese Rollen z
 usammenspielen und die Betreuungspraxis bereichern können.
LAST-MODIFIED:20260211T130616Z
LOCATION:Online
URL:https://www.uni-marburg.de/de/mara/aktuelles-mara/events/2026/postdocp
 rogramm/promotionsbetreuung
END:VEVENT
BEGIN:VTIMEZONE
TZID:Europe/Berlin
X-LIC-LOCATION:Europe/Berlin
BEGIN:DAYLIGHT
DTSTART:20260329T030000
TZNAME:CEST
TZOFFSETFROM:+0100
TZOFFSETTO:+0200
END:DAYLIGHT
END:VTIMEZONE
END:VCALENDAR
