BEGIN:VCALENDAR
VERSION:2.0
PRODID:-//Plone.org//NONSGML plone.app.event//EN
X-WR-TIMEZONE:Europe/Berlin
BEGIN:VEVENT
SUMMARY:Als Erste*r in der Familie promovieren – Stärken und Herausford
 erungen – Onlineveranstaltung
DTSTART;TZID=Europe/Berlin:20260929T090000
DTEND;TZID=Europe/Berlin:20260929T130000
DTSTAMP:20260421T220239Z
UID:81275bdf7321434f818acc1fcbd8b677@www.uni-marburg.de
ATTENDEE;CN="Yvonne Gajer";ROLE=REQ-PARTICIPANT:Yvonne Gajer
ATTENDEE;CN="https://arbeiterkind.de/als-erste-studieren/promotion";ROLE=R
 EQ-PARTICIPANT:https://arbeiterkind.de/als-erste-studieren/promotion
CATEGORIES:()
CREATED:20191119T114031Z
DESCRIPTION:https://www.uni-marburg.de/de/mara/aktuelles-mara/events/2026/
 promovierendenprogramm/als-erste-r-promovieren\n
LAST-MODIFIED:20260407T130920Z
LOCATION:Online
URL:https://www.uni-marburg.de/de/mara/aktuelles-mara/events/2026/promovie
 rendenprogramm/als-erste-r-promovieren
END:VEVENT
BEGIN:VTIMEZONE
TZID:Europe/Berlin
X-LIC-LOCATION:Europe/Berlin
BEGIN:DAYLIGHT
DTSTART:20260329T030000
TZNAME:CEST
TZOFFSETFROM:+0100
TZOFFSETTO:+0200
END:DAYLIGHT
END:VTIMEZONE
END:VCALENDAR
