BEGIN:VCALENDAR
VERSION:2.0
PRODID:-//Plone.org//NONSGML plone.app.event//EN
X-WR-TIMEZONE:Europe/Berlin
BEGIN:VEVENT
SUMMARY:Schreibwerkstatt – Das wissenschaftliche Exposé in den Geistes-
  und Sozialwissenschaften – Onlineveranstaltung
DTSTART;TZID=Europe/Berlin:20261001T090000
DTEND;TZID=Europe/Berlin:20261001T170000
DTSTAMP:20260421T083535Z
UID:577cede4af494e96a28d9a805d08211d@www.uni-marburg.de
ATTENDEE;CN="Dr. Anna Brake";ROLE=REQ-PARTICIPANT:Dr. Anna Brake
CATEGORIES:()
CREATED:20181130T095409Z
DESCRIPTION:https://www.uni-marburg.de/de/mara/aktuelles-mara/events/2026/
 promovierendenprogramm/das-wissenschaftliche-expose\n
LAST-MODIFIED:20260304T081213Z
LOCATION:Online
URL:https://www.uni-marburg.de/de/mara/aktuelles-mara/events/2026/promovie
 rendenprogramm/das-wissenschaftliche-expose
END:VEVENT
BEGIN:VTIMEZONE
TZID:Europe/Berlin
X-LIC-LOCATION:Europe/Berlin
BEGIN:DAYLIGHT
DTSTART:20260329T030000
TZNAME:CEST
TZOFFSETFROM:+0100
TZOFFSETTO:+0200
END:DAYLIGHT
END:VTIMEZONE
END:VCALENDAR
