BEGIN:VCALENDAR
VERSION:2.0
PRODID:-//Plone.org//NONSGML plone.app.event//EN
X-WR-TIMEZONE:Europe/Berlin
BEGIN:VEVENT
SUMMARY:Doktorhut steht mir gut?! – Entscheidungshilfe für Promotionsin
 teressierte – Onlineveranstaltung
DTSTART;TZID=Europe/Berlin:20260219T090000
DTEND;TZID=Europe/Berlin:20260219T151500
DTSTAMP:20260421T063852Z
UID:223359e4f54c4087958ba3e3bcbe6af5@www.uni-marburg.de
ATTENDEE;CN="Dr. Sarah Weber";ROLE=REQ-PARTICIPANT:Dr. Sarah Weber
ATTENDEE;CN=www.sarah-weber.net;ROLE=REQ-PARTICIPANT:www.sarah-weber.net
CATEGORIES:()
CREATED:20201202T135237Z
DESCRIPTION:https://www.uni-marburg.de/de/mara/aktuelles-mara/events/2026/
 promovierendenprogramm/doktorhut\n
LAST-MODIFIED:20251024T093715Z
LOCATION:Online – Zoom
URL:https://www.uni-marburg.de/de/mara/aktuelles-mara/events/2026/promovie
 rendenprogramm/doktorhut
END:VEVENT
BEGIN:VTIMEZONE
TZID:Europe/Berlin
X-LIC-LOCATION:Europe/Berlin
BEGIN:STANDARD
DTSTART:20251026T020000
TZNAME:CET
TZOFFSETFROM:+0200
TZOFFSETTO:+0100
END:STANDARD
END:VTIMEZONE
END:VCALENDAR
