BEGIN:VCALENDAR
VERSION:2.0
PRODID:-//Plone.org//NONSGML plone.app.event//EN
X-WR-TIMEZONE:Europe/Berlin
BEGIN:VEVENT
SUMMARY:Einführung in die angewandte Statistik
DTSTART;TZID=Europe/Berlin:20260210T090000
DTEND;TZID=Europe/Berlin:20260210T160000
DTSTAMP:20260421T230743Z
UID:6fc07fb295864ea39b2b2838f0b43a9a@www.uni-marburg.de
ATTENDEE;CN="Dr. Johannes Herrmann";ROLE=REQ-PARTICIPANT:Dr. Johannes Herr
 mann
ATTENDEE;CN=www.statistikberatung-giessen.de;ROLE=REQ-PARTICIPANT:www.stat
 istikberatung-giessen.de
CATEGORIES:()
CREATED:20210518T135803Z
DESCRIPTION:https://www.uni-marburg.de/de/mara/aktuelles-mara/events/2026/
 promovierendenprogramm/einfuehrung-angewandte-statistik\n
LAST-MODIFIED:20251024T092959Z
LOCATION:Philipps-Universität Marburg\, MARA\, F|05\, Deutschhausstraße 
 11+13\, Seminarraum 01.0010
URL:https://www.uni-marburg.de/de/mara/aktuelles-mara/events/2026/promovie
 rendenprogramm/einfuehrung-angewandte-statistik
END:VEVENT
BEGIN:VTIMEZONE
TZID:Europe/Berlin
X-LIC-LOCATION:Europe/Berlin
BEGIN:STANDARD
DTSTART:20251026T020000
TZNAME:CET
TZOFFSETFROM:+0200
TZOFFSETTO:+0100
END:STANDARD
END:VTIMEZONE
END:VCALENDAR
