BEGIN:VCALENDAR
VERSION:2.0
PRODID:-//Plone.org//NONSGML plone.app.event//EN
X-WR-TIMEZONE:Europe/Berlin
BEGIN:VEVENT
SUMMARY:Gute wissenschaftliche Praxis – Onlineveranstaltung
DTSTART;VALUE=DATE:20261109
DTEND;VALUE=DATE:20261110
DTSTAMP:20260422T060513Z
UID:40907b6a07614da1a1e7ba3001d378db@www.uni-marburg.de
RRULE:FREQ=DAILY;UNTIL=20261110T000000
ATTENDEE;CN="PD Dr. Andrea Kliewer";ROLE=REQ-PARTICIPANT:PD Dr. Andrea Kli
 ewer
CATEGORIES:()
CREATED:20181130T095409Z
DESCRIPTION:https://www.uni-marburg.de/de/mara/aktuelles-mara/events/2026/
 promovierendenprogramm/gute-wissenschaftliche-praxis\n
LAST-MODIFIED:20260324T100418Z
LOCATION:Online – Zoom
URL:https://www.uni-marburg.de/de/mara/aktuelles-mara/events/2026/promovie
 rendenprogramm/gute-wissenschaftliche-praxis
END:VEVENT
END:VCALENDAR
