BEGIN:VCALENDAR
VERSION:2.0
PRODID:-//Plone.org//NONSGML plone.app.event//EN
X-WR-TIMEZONE:Europe/Berlin
BEGIN:VEVENT
SUMMARY:Das Impostor-Phänomen in der Wissenschaft – Erfolgreich durch G
 lück oder Kompetenz? – Onlineveranstaltung
DTSTART;TZID=Europe/Berlin:20260916T090000
DTEND;TZID=Europe/Berlin:20260916T130000
DTSTAMP:20260421T100206Z
UID:3b2204457fe64b53b36146aac3afe476@www.uni-marburg.de
ATTENDEE;CN="Dr. Simone Freitag";ROLE=REQ-PARTICIPANT:Dr. Simone Freitag
ATTENDEE;CN="https://www.academy-science.de";ROLE=REQ-PARTICIPANT:https://
 www.academy-science.de
CATEGORIES:()
CREATED:20181130T095409Z
DESCRIPTION:https://www.uni-marburg.de/de/mara/aktuelles-mara/events/2026/
 promovierendenprogramm/impostor-phaenomen-in-der-wissenschaft\n
LAST-MODIFIED:20260304T081105Z
LOCATION:Online
URL:https://www.uni-marburg.de/de/mara/aktuelles-mara/events/2026/promovie
 rendenprogramm/impostor-phaenomen-in-der-wissenschaft
END:VEVENT
BEGIN:VTIMEZONE
TZID:Europe/Berlin
X-LIC-LOCATION:Europe/Berlin
BEGIN:DAYLIGHT
DTSTART:20260329T030000
TZNAME:CEST
TZOFFSETFROM:+0100
TZOFFSETTO:+0200
END:DAYLIGHT
END:VTIMEZONE
END:VCALENDAR
