BEGIN:VCALENDAR
VERSION:2.0
PRODID:-//Plone.org//NONSGML plone.app.event//EN
X-WR-TIMEZONE:Europe/Berlin
BEGIN:VEVENT
SUMMARY:Jobinterviewtraining – Einzelcoaching und eintägige Onlineveran
 staltung
DTSTART;VALUE=DATE:20260907
DTEND;VALUE=DATE:20260909
DTSTAMP:20260421T015531Z
UID:73bf7f9f0b6f4749a84ff021470c6fa3@www.uni-marburg.de
ATTENDEE;CN="Prof. Dr. Daniel Wrede";ROLE=REQ-PARTICIPANT:Prof. Dr. Daniel
  Wrede
ATTENDEE;CN=www.danielwre.de;ROLE=REQ-PARTICIPANT:www.danielwre.de
CATEGORIES:()
CREATED:20181130T095409Z
DESCRIPTION:https://www.uni-marburg.de/de/mara/aktuelles-mara/events/2026/
 promovierendenprogramm/jobinterviewtraining\n
LAST-MODIFIED:20260304T081025Z
LOCATION:Online
URL:https://www.uni-marburg.de/de/mara/aktuelles-mara/events/2026/promovie
 rendenprogramm/jobinterviewtraining
END:VEVENT
END:VCALENDAR
