BEGIN:VCALENDAR
VERSION:2.0
PRODID:-//Plone.org//NONSGML plone.app.event//EN
X-WR-TIMEZONE:Europe/Berlin
BEGIN:VEVENT
SUMMARY:Mental Health – Gesund durch die Promotion
DTSTART;TZID=Europe/Berlin:20260312T090000
DTEND;TZID=Europe/Berlin:20260312T170000
DTSTAMP:20260421T143452Z
UID:9a03951fd5684ae782f7fb67a94df7ab@www.uni-marburg.de
ATTENDEE;CN="Barbara Schade";ROLE=REQ-PARTICIPANT:Barbara Schade
ATTENDEE;CN=www.barbara-schade.de;ROLE=REQ-PARTICIPANT:www.barbara-schade.
 de
CATEGORIES:()
CREATED:20191119T114031Z
DESCRIPTION:https://www.uni-marburg.de/de/mara/aktuelles-mara/events/2026/
 promovierendenprogramm/mental-health\n
LAST-MODIFIED:20251103T081017Z
LOCATION:Philipps-Universität Marburg\, MARA\, F|05\, Deutschhausstraße 
 11+13\, Seminarraum 01.0010
URL:https://www.uni-marburg.de/de/mara/aktuelles-mara/events/2026/promovie
 rendenprogramm/mental-health
END:VEVENT
BEGIN:VTIMEZONE
TZID:Europe/Berlin
X-LIC-LOCATION:Europe/Berlin
BEGIN:STANDARD
DTSTART:20251026T020000
TZNAME:CET
TZOFFSETFROM:+0200
TZOFFSETTO:+0100
END:STANDARD
END:VTIMEZONE
END:VCALENDAR
