BEGIN:VCALENDAR
VERSION:2.0
PRODID:-//Plone.org//NONSGML plone.app.event//EN
X-WR-TIMEZONE:Europe/Berlin
BEGIN:VEVENT
SUMMARY:Online-Schreibretreat
DTSTART;TZID=Europe/Berlin:20260831T090000
DTEND;TZID=Europe/Berlin:20260831T170000
DTSTAMP:20260421T181606Z
UID:39b133da0f824295af9f38df3a2df3f0@www.uni-marburg.de
RRULE:FREQ=DAILY;UNTIL=20260904T000000
EXDATE;TZID=Europe/Berlin:20240824T090000,20240825T090000,20250830T090000,
 20250831T090000
ATTENDEE;CN="Dr. Alexander Egeling";ROLE=REQ-PARTICIPANT:Dr. Alexander Ege
 ling
ATTENDEE;CN=www.alexander-egeling.de;ROLE=REQ-PARTICIPANT:www.alexander-eg
 eling.de
CATEGORIES:()
CREATED:20191119T114031Z
DESCRIPTION:https://www.uni-marburg.de/de/mara/aktuelles-mara/events/2026/
 promovierendenprogramm/online-schreibretreat\n
LAST-MODIFIED:20260304T111338Z
LOCATION:Online
URL:https://www.uni-marburg.de/de/mara/aktuelles-mara/events/2026/promovie
 rendenprogramm/online-schreibretreat
END:VEVENT
BEGIN:VTIMEZONE
TZID:Europe/Berlin
X-LIC-LOCATION:Europe/Berlin
BEGIN:DAYLIGHT
DTSTART:20260329T030000
TZNAME:CEST
TZOFFSETFROM:+0100
TZOFFSETTO:+0200
END:DAYLIGHT
END:VTIMEZONE
END:VCALENDAR
