BEGIN:VCALENDAR
VERSION:2.0
PRODID:-//Plone.org//NONSGML plone.app.event//EN
X-WR-TIMEZONE:Europe/Berlin
BEGIN:VEVENT
SUMMARY:Publizieren im Open Access – Einblicke in Publikationswege\, Fö
 rdermöglichkeiten & Stolperfallen
DTSTART;TZID=Europe/Berlin:20260223T140000
DTEND;TZID=Europe/Berlin:20260223T170000
DTSTAMP:20260421T032115Z
UID:7033a2762161407d9dba756cddc534e9@www.uni-marburg.de
ATTENDEE;CN="Margit L. Hartung";ROLE=REQ-PARTICIPANT:Margit L. Hartung
ATTENDEE;CN="Dr. Ursula Winter";ROLE=REQ-PARTICIPANT:Dr. Ursula Winter
CATEGORIES:()
CREATED:20191119T114031Z
DESCRIPTION:https://www.uni-marburg.de/de/mara/aktuelles-mara/events/2026/
 promovierendenprogramm/open-access\n
LAST-MODIFIED:20251015T082536Z
LOCATION:Philipps-Universität Marburg\, MARA\, F|05\, Deutschhausstraße 
 11+13\, Seminarraum 01.0010
URL:https://www.uni-marburg.de/de/mara/aktuelles-mara/events/2026/promovie
 rendenprogramm/open-access
END:VEVENT
BEGIN:VTIMEZONE
TZID:Europe/Berlin
X-LIC-LOCATION:Europe/Berlin
BEGIN:STANDARD
DTSTART:20251026T020000
TZNAME:CET
TZOFFSETFROM:+0200
TZOFFSETTO:+0100
END:STANDARD
END:VTIMEZONE
END:VCALENDAR
