BEGIN:VCALENDAR
VERSION:2.0
PRODID:-//Plone.org//NONSGML plone.app.event//EN
X-WR-TIMEZONE:Europe/Berlin
BEGIN:VEVENT
SUMMARY:Projektmanagement mit Lean Six Sigma
DTSTART;TZID=Europe/Berlin:20261124T090000
DTEND;TZID=Europe/Berlin:20261124T170000
DTSTAMP:20260420T230401Z
UID:43de866fd65e4446bb27735f96367435@www.uni-marburg.de
RRULE:FREQ=DAILY;UNTIL=20261125T000000
ATTENDEE;CN="Prof. Dr. Marcellus Peuckert";ROLE=REQ-PARTICIPANT:Prof. Dr. 
 Marcellus Peuckert
CATEGORIES:()
CREATED:20181130T095409Z
DESCRIPTION:https://www.uni-marburg.de/de/mara/aktuelles-mara/events/2026/
 promovierendenprogramm/projektmanagement-lean-six-sigma\n
LAST-MODIFIED:20260324T100524Z
LOCATION:Philipps-Universität Marburg\, MARA\, F|05\, Deutschhausstraße 
 11+13\, Seminarraum 01.0010
URL:https://www.uni-marburg.de/de/mara/aktuelles-mara/events/2026/promovie
 rendenprogramm/projektmanagement-lean-six-sigma
END:VEVENT
BEGIN:VTIMEZONE
TZID:Europe/Berlin
X-LIC-LOCATION:Europe/Berlin
BEGIN:STANDARD
DTSTART:20261025T020000
TZNAME:CET
TZOFFSETFROM:+0200
TZOFFSETTO:+0100
END:STANDARD
END:VTIMEZONE
END:VCALENDAR
