BEGIN:VCALENDAR
VERSION:2.0
PRODID:-//Plone.org//NONSGML plone.app.event//EN
X-WR-TIMEZONE:Europe/Berlin
BEGIN:VEVENT
SUMMARY:Statistik-Crashkurs I
DTSTART;TZID=Europe/Berlin:20260224T090000
DTEND;TZID=Europe/Berlin:20260224T160000
DTSTAMP:20260421T142616Z
UID:90805044f0114f53b6d759feea72f4d1@www.uni-marburg.de
RRULE:FREQ=DAILY;COUNT=2
ATTENDEE;CN="Dr. Johannes Herrmann";ROLE=REQ-PARTICIPANT:Dr. Johannes Herr
 mann
ATTENDEE;CN=www.statistikberatung-giessen.de;ROLE=REQ-PARTICIPANT:www.stat
 istikberatung-giessen.de
CATEGORIES:()
CREATED:20180110T100935Z
DESCRIPTION:https://www.uni-marburg.de/de/mara/aktuelles-mara/events/2026/
 promovierendenprogramm/statistik-crashkurs-1\n
LAST-MODIFIED:20251024T094826Z
LOCATION:Philipps-Universität Marburg\, MARA\, F|05\, Deutschhausstraße 
 11+13\, Seminarraum 01.0010
URL:https://www.uni-marburg.de/de/mara/aktuelles-mara/events/2026/promovie
 rendenprogramm/statistik-crashkurs-1
END:VEVENT
BEGIN:VTIMEZONE
TZID:Europe/Berlin
X-LIC-LOCATION:Europe/Berlin
BEGIN:STANDARD
DTSTART:20251026T020000
TZNAME:CET
TZOFFSETFROM:+0200
TZOFFSETTO:+0100
END:STANDARD
END:VTIMEZONE
END:VCALENDAR
