BEGIN:VCALENDAR
VERSION:2.0
PRODID:-//Plone.org//NONSGML plone.app.event//EN
X-WR-TIMEZONE:Europe/Berlin
BEGIN:VEVENT
SUMMARY:Wie funktionieren Unternehmen? – Mein Einstieg in die Wirtschaft
DTSTART;TZID=Europe/Berlin:20260618T090000
DTEND;TZID=Europe/Berlin:20260618T160000
DTSTAMP:20260422T005611Z
UID:facebe41ab4e40a5a91677fa4e509ba8@www.uni-marburg.de
RRULE:FREQ=DAILY;UNTIL=20260619T000000
EXDATE;TZID=Europe/Berlin:20260919T090000
ATTENDEE;CN="Dr. Martin Kaminski";ROLE=REQ-PARTICIPANT:Dr. Martin Kaminski
CATEGORIES:()
CREATED:20210414T125521Z
DESCRIPTION:https://www.uni-marburg.de/de/mara/aktuelles-mara/events/2026/
 promovierendenprogramm/wie-funktionieren-unternehmen\n
LAST-MODIFIED:20260121T083141Z
LOCATION:Philipps-Universität Marburg\, MARA\, F|05\, Deutschhausstraße 
 11+13\, Seminarraum 01.0010
URL:https://www.uni-marburg.de/de/mara/aktuelles-mara/events/2026/promovie
 rendenprogramm/wie-funktionieren-unternehmen
END:VEVENT
BEGIN:VTIMEZONE
TZID:Europe/Berlin
X-LIC-LOCATION:Europe/Berlin
BEGIN:DAYLIGHT
DTSTART:20260329T030000
TZNAME:CEST
TZOFFSETFROM:+0100
TZOFFSETTO:+0200
END:DAYLIGHT
END:VTIMEZONE
END:VCALENDAR
